BEGIN:VCALENDAR
VERSION:2.0
PRODID:-//Mode Shift Omaha - ECPv6.15.17.1//NONSGML v1.0//EN
CALSCALE:GREGORIAN
METHOD:PUBLISH
X-WR-CALNAME:Mode Shift Omaha
X-ORIGINAL-URL:https://modeshiftomaha.org
X-WR-CALDESC:Events for Mode Shift Omaha
REFRESH-INTERVAL;VALUE=DURATION:PT1H
X-Robots-Tag:noindex
X-PUBLISHED-TTL:PT1H
BEGIN:VTIMEZONE
TZID:America/Chicago
BEGIN:DAYLIGHT
TZOFFSETFROM:-0600
TZOFFSETTO:-0500
TZNAME:CDT
DTSTART:20220313T080000
END:DAYLIGHT
BEGIN:STANDARD
TZOFFSETFROM:-0500
TZOFFSETTO:-0600
TZNAME:CST
DTSTART:20221106T070000
END:STANDARD
BEGIN:DAYLIGHT
TZOFFSETFROM:-0600
TZOFFSETTO:-0500
TZNAME:CDT
DTSTART:20230312T080000
END:DAYLIGHT
BEGIN:STANDARD
TZOFFSETFROM:-0500
TZOFFSETTO:-0600
TZNAME:CST
DTSTART:20231105T070000
END:STANDARD
BEGIN:DAYLIGHT
TZOFFSETFROM:-0600
TZOFFSETTO:-0500
TZNAME:CDT
DTSTART:20240310T080000
END:DAYLIGHT
BEGIN:STANDARD
TZOFFSETFROM:-0500
TZOFFSETTO:-0600
TZNAME:CST
DTSTART:20241103T070000
END:STANDARD
END:VTIMEZONE
BEGIN:VEVENT
DTSTART;TZID=America/Chicago:20230328T190000
DTEND;TZID=America/Chicago:20230328T200000
DTSTAMP:20260419T210005
CREATED:20230323T010813Z
LAST-MODIFIED:20230323T010816Z
UID:5970-1680030000-1680033600@modeshiftomaha.org
SUMMARY:Transit Team Meeting
DESCRIPTION:Join Mode Shift Omaha’s Transit Team on Zoom to discuss opportunities to push for better transit and help more people learn about and use Omaha’s transit system. In the past we have pushed for passage of the Regional Transit Authority legislation (passed in 2019)\, organized Ride the Bus with Us events to create fun bus riding opportunities\, and shared information about elements of good bus rapid transit.
URL:https://modeshiftomaha.org/event/transit-team-meeting-2/
CATEGORIES:Team Meeting
ATTACH;FMTTYPE=image/jpeg:https://modeshiftomaha.org/wp-content/uploads/2022/04/ElectricBus.jpg
END:VEVENT
END:VCALENDAR