BEGIN:VCALENDAR
VERSION:2.0
PRODID:-//Mode Shift Omaha - ECPv6.15.17.1//NONSGML v1.0//EN
CALSCALE:GREGORIAN
METHOD:PUBLISH
X-ORIGINAL-URL:https://modeshiftomaha.org
X-WR-CALDESC:Events for Mode Shift Omaha
REFRESH-INTERVAL;VALUE=DURATION:PT1H
X-Robots-Tag:noindex
X-PUBLISHED-TTL:PT1H
BEGIN:VTIMEZONE
TZID:America/Chicago
BEGIN:DAYLIGHT
TZOFFSETFROM:-0600
TZOFFSETTO:-0500
TZNAME:CDT
DTSTART:20220313T080000
END:DAYLIGHT
BEGIN:STANDARD
TZOFFSETFROM:-0500
TZOFFSETTO:-0600
TZNAME:CST
DTSTART:20221106T070000
END:STANDARD
BEGIN:DAYLIGHT
TZOFFSETFROM:-0600
TZOFFSETTO:-0500
TZNAME:CDT
DTSTART:20230312T080000
END:DAYLIGHT
BEGIN:STANDARD
TZOFFSETFROM:-0500
TZOFFSETTO:-0600
TZNAME:CST
DTSTART:20231105T070000
END:STANDARD
BEGIN:DAYLIGHT
TZOFFSETFROM:-0600
TZOFFSETTO:-0500
TZNAME:CDT
DTSTART:20240310T080000
END:DAYLIGHT
BEGIN:STANDARD
TZOFFSETFROM:-0500
TZOFFSETTO:-0600
TZNAME:CST
DTSTART:20241103T070000
END:STANDARD
END:VTIMEZONE
BEGIN:VEVENT
DTSTART;TZID=America/Chicago:20230420T160000
DTEND;TZID=America/Chicago:20230420T170000
DTSTAMP:20260419T210056
CREATED:20230323T003145Z
LAST-MODIFIED:20230404T021315Z
UID:5961-1682006400-1682010000@modeshiftomaha.org
SUMMARY:Bus stop & sidewalk clean up
DESCRIPTION:Join Mode Shift Omaha and the Blue Bucket Project to clean up bus shelters and sidewalks at the intersection of 72nd St. & Maple St. Just show up\, and the Blue Bucket Project will provide trash cleanup materials including gloves and trash buckets.Omaha Metro bus service is provided to this intersection by the 18 bus route and the 4 bus route.Facebook event link.
URL:https://modeshiftomaha.org/event/bus-stop-sidewalk-clean-up/
LOCATION:Intersection of Maple St & 72nd St.\, 2901 N 72nd St.\, Omaha\, Nebraska\, 68134\, United States
CATEGORIES:Community event
ATTACH;FMTTYPE=image/jpeg:https://modeshiftomaha.org/wp-content/uploads/2023/03/IMG_1872.jpg
END:VEVENT
END:VCALENDAR