BEGIN:VCALENDAR
VERSION:2.0
PRODID:-//Mode Shift Omaha - ECPv6.15.17.1//NONSGML v1.0//EN
CALSCALE:GREGORIAN
METHOD:PUBLISH
X-ORIGINAL-URL:https://modeshiftomaha.org
X-WR-CALDESC:Events for Mode Shift Omaha
REFRESH-INTERVAL;VALUE=DURATION:PT1H
X-Robots-Tag:noindex
X-PUBLISHED-TTL:PT1H
BEGIN:VTIMEZONE
TZID:America/Chicago
BEGIN:DAYLIGHT
TZOFFSETFROM:-0600
TZOFFSETTO:-0500
TZNAME:CDT
DTSTART:20220313T080000
END:DAYLIGHT
BEGIN:STANDARD
TZOFFSETFROM:-0500
TZOFFSETTO:-0600
TZNAME:CST
DTSTART:20221106T070000
END:STANDARD
BEGIN:DAYLIGHT
TZOFFSETFROM:-0600
TZOFFSETTO:-0500
TZNAME:CDT
DTSTART:20230312T080000
END:DAYLIGHT
BEGIN:STANDARD
TZOFFSETFROM:-0500
TZOFFSETTO:-0600
TZNAME:CST
DTSTART:20231105T070000
END:STANDARD
BEGIN:DAYLIGHT
TZOFFSETFROM:-0600
TZOFFSETTO:-0500
TZNAME:CDT
DTSTART:20240310T080000
END:DAYLIGHT
BEGIN:STANDARD
TZOFFSETFROM:-0500
TZOFFSETTO:-0600
TZNAME:CST
DTSTART:20241103T070000
END:STANDARD
END:VTIMEZONE
BEGIN:VEVENT
DTSTART;TZID=America/Chicago:20230426T190000
DTEND;TZID=America/Chicago:20230426T200000
DTSTAMP:20260419T210103
CREATED:20230403T020202Z
LAST-MODIFIED:20230404T024756Z
UID:6007-1682535600-1682539200@modeshiftomaha.org
SUMMARY:April Member Meeting w/ Our Streets MPLS
DESCRIPTION:We are SO EXCITED to have José Antonio Zayas Cabán from Our Streets MPLS talking to us about the work Our Streets is doing in Minneapolis. José is the Advocacy Director for Our Streets Minneapolis\, where he has worked on developing reparative justice campaigns across the Twin Cities. We hope you can join us on Zoom!  Facebook event link
URL:https://modeshiftomaha.org/event/april-member-meeting-w-our-streets-mpls/
CATEGORIES:Member Meeting
ATTACH;FMTTYPE=image/jpeg:https://modeshiftomaha.org/wp-content/uploads/2023/04/339317478_154503427244874_2773614578393915841_n.jpg
END:VEVENT
END:VCALENDAR