BEGIN:VCALENDAR
VERSION:2.0
PRODID:-//Mode Shift Omaha - ECPv6.15.17.1//NONSGML v1.0//EN
CALSCALE:GREGORIAN
METHOD:PUBLISH
X-ORIGINAL-URL:https://modeshiftomaha.org
X-WR-CALDESC:Events for Mode Shift Omaha
REFRESH-INTERVAL;VALUE=DURATION:PT1H
X-Robots-Tag:noindex
X-PUBLISHED-TTL:PT1H
BEGIN:VTIMEZONE
TZID:America/Chicago
BEGIN:DAYLIGHT
TZOFFSETFROM:-0600
TZOFFSETTO:-0500
TZNAME:CDT
DTSTART:20220313T080000
END:DAYLIGHT
BEGIN:STANDARD
TZOFFSETFROM:-0500
TZOFFSETTO:-0600
TZNAME:CST
DTSTART:20221106T070000
END:STANDARD
BEGIN:DAYLIGHT
TZOFFSETFROM:-0600
TZOFFSETTO:-0500
TZNAME:CDT
DTSTART:20230312T080000
END:DAYLIGHT
BEGIN:STANDARD
TZOFFSETFROM:-0500
TZOFFSETTO:-0600
TZNAME:CST
DTSTART:20231105T070000
END:STANDARD
BEGIN:DAYLIGHT
TZOFFSETFROM:-0600
TZOFFSETTO:-0500
TZNAME:CDT
DTSTART:20240310T080000
END:DAYLIGHT
BEGIN:STANDARD
TZOFFSETFROM:-0500
TZOFFSETTO:-0600
TZNAME:CST
DTSTART:20241103T070000
END:STANDARD
END:VTIMEZONE
BEGIN:VEVENT
DTSTART;TZID=America/Chicago:20230513T100000
DTEND;TZID=America/Chicago:20230513T110000
DTSTAMP:20260419T192741
CREATED:20230419T024857Z
LAST-MODIFIED:20230419T024900Z
UID:6081-1683972000-1683975600@modeshiftomaha.org
SUMMARY:Coffee Meet Up
DESCRIPTION:Join Mode Shift Omaha’s Bike Team for a monthly (or so) social meet up at a local coffee shop. We are kicking this off for 2023 with a meet up on Saturday May 13 at The Mill Coffee on Leavenworth. (We’re building on the tradition of Mode Shift Coffee Chats & Sarah Johnson’s Saturday Coffee Rides!). You can RSVP & share this event on Facebook (or just share this link).
URL:https://modeshiftomaha.org/event/coffee-meet-up/
LOCATION:The Mill Coffee & Tea\, 3105 Leavenworth Street\, Omaha\, Nebraska\, 68105\, United States
CATEGORIES:Community event,Team Meeting
ATTACH;FMTTYPE=image/jpeg:https://modeshiftomaha.org/wp-content/uploads/2017/11/November-2017-Coffee-Chat-1033071376-1511281527380-scaled.jpg
END:VEVENT
END:VCALENDAR