BEGIN:VCALENDAR
VERSION:2.0
PRODID:-//Mode Shift Omaha - ECPv6.15.17.1//NONSGML v1.0//EN
CALSCALE:GREGORIAN
METHOD:PUBLISH
X-WR-CALNAME:Mode Shift Omaha
X-ORIGINAL-URL:https://modeshiftomaha.org
X-WR-CALDESC:Events for Mode Shift Omaha
REFRESH-INTERVAL;VALUE=DURATION:PT1H
X-Robots-Tag:noindex
X-PUBLISHED-TTL:PT1H
BEGIN:VTIMEZONE
TZID:America/Chicago
BEGIN:DAYLIGHT
TZOFFSETFROM:-0600
TZOFFSETTO:-0500
TZNAME:CDT
DTSTART:20220313T080000
END:DAYLIGHT
BEGIN:STANDARD
TZOFFSETFROM:-0500
TZOFFSETTO:-0600
TZNAME:CST
DTSTART:20221106T070000
END:STANDARD
BEGIN:DAYLIGHT
TZOFFSETFROM:-0600
TZOFFSETTO:-0500
TZNAME:CDT
DTSTART:20230312T080000
END:DAYLIGHT
BEGIN:STANDARD
TZOFFSETFROM:-0500
TZOFFSETTO:-0600
TZNAME:CST
DTSTART:20231105T070000
END:STANDARD
BEGIN:DAYLIGHT
TZOFFSETFROM:-0600
TZOFFSETTO:-0500
TZNAME:CDT
DTSTART:20240310T080000
END:DAYLIGHT
BEGIN:STANDARD
TZOFFSETFROM:-0500
TZOFFSETTO:-0600
TZNAME:CST
DTSTART:20241103T070000
END:STANDARD
END:VTIMEZONE
BEGIN:VEVENT
DTSTART;TZID=America/Chicago:20230520T090000
DTEND;TZID=America/Chicago:20230520T160000
DTSTAMP:20260419T192622
CREATED:20230501T215648Z
LAST-MODIFIED:20230519T024635Z
UID:6091-1684573200-1684598400@modeshiftomaha.org
SUMMARY:Bike Month Bike Ride: May 20th
DESCRIPTION:Join us for a Bike Month Bike Ride! We’ll meet at the Luminarium and ride together to Fabric Labs\, where we’ll take a break to hear from Preston Love Jr. about the history of North Omaha. We’ll then bike on the North Omaha Trail\, and back to the Luminarium. If you’d like to use a Heartland Bike Share e-bike please reserve one here! \n\n\n\n9:00AM – Luminarium  \n\n\n\n9:30AM – Farmers Market Downtown  \n\n\n\n10:00AM – Fabric Lab Conversation with Preston Love Jr.  \n\n\n\n10:30AM – North Omaha Trail  \n\n\n\n11:00AM – Gifford Park and Harney Street  \n\n\n\n11:15AM – Arrive back at the Luminarium  \n\n\n\nCheck out our planned route below\, or see the route on Google Earth here.
URL:https://modeshiftomaha.org/event/bike-month-bike-ride/
CATEGORIES:Community event
ATTACH;FMTTYPE=image/png:https://modeshiftomaha.org/wp-content/uploads/2023/05/Copy-of-Copy-of-2018-canada-bike-expo.png
END:VEVENT
END:VCALENDAR