BEGIN:VCALENDAR
VERSION:2.0
PRODID:-//Mode Shift Omaha - ECPv6.15.17.1//NONSGML v1.0//EN
CALSCALE:GREGORIAN
METHOD:PUBLISH
X-ORIGINAL-URL:https://modeshiftomaha.org
X-WR-CALDESC:Events for Mode Shift Omaha
REFRESH-INTERVAL;VALUE=DURATION:PT1H
X-Robots-Tag:noindex
X-PUBLISHED-TTL:PT1H
BEGIN:VTIMEZONE
TZID:America/Chicago
BEGIN:DAYLIGHT
TZOFFSETFROM:-0600
TZOFFSETTO:-0500
TZNAME:CDT
DTSTART:20220313T080000
END:DAYLIGHT
BEGIN:STANDARD
TZOFFSETFROM:-0500
TZOFFSETTO:-0600
TZNAME:CST
DTSTART:20221106T070000
END:STANDARD
BEGIN:DAYLIGHT
TZOFFSETFROM:-0600
TZOFFSETTO:-0500
TZNAME:CDT
DTSTART:20230312T080000
END:DAYLIGHT
BEGIN:STANDARD
TZOFFSETFROM:-0500
TZOFFSETTO:-0600
TZNAME:CST
DTSTART:20231105T070000
END:STANDARD
BEGIN:DAYLIGHT
TZOFFSETFROM:-0600
TZOFFSETTO:-0500
TZNAME:CDT
DTSTART:20240310T080000
END:DAYLIGHT
BEGIN:STANDARD
TZOFFSETFROM:-0500
TZOFFSETTO:-0600
TZNAME:CST
DTSTART:20241103T070000
END:STANDARD
END:VTIMEZONE
BEGIN:VEVENT
DTSTART;TZID=America/Chicago:20230705T190000
DTEND;TZID=America/Chicago:20230705T200000
DTSTAMP:20260419T164648
CREATED:20230628T175302Z
LAST-MODIFIED:20230628T175305Z
UID:6134-1688583600-1688587200@modeshiftomaha.org
SUMMARY:7/5 Bike Team Meeting
DESCRIPTION:Join us for our July Bike Team meeting in-person to follow up on plans for bike valet at upcoming events\, bike rides\, petition/sign-on letter to require detours for trail closures\, and more. All are welcome to join and connect to the work of the Bike Team.
URL:https://modeshiftomaha.org/event/7-5-bike-team-meeting/
LOCATION:Dry Spokes\, 1901 Leavenworth St.\, Omaha\, Nebraska\, United States
CATEGORIES:Team Meeting
ATTACH;FMTTYPE=image/jpeg:https://modeshiftomaha.org/wp-content/uploads/2022/10/Bike-lane-protest-in-front-of-city-hall-group-of-people.jpeg
END:VEVENT
END:VCALENDAR