BEGIN:VCALENDAR
VERSION:2.0
PRODID:-//Mode Shift Omaha - ECPv6.15.17.1//NONSGML v1.0//EN
CALSCALE:GREGORIAN
METHOD:PUBLISH
X-WR-CALNAME:Mode Shift Omaha
X-ORIGINAL-URL:https://modeshiftomaha.org
X-WR-CALDESC:Events for Mode Shift Omaha
REFRESH-INTERVAL;VALUE=DURATION:PT1H
X-Robots-Tag:noindex
X-PUBLISHED-TTL:PT1H
BEGIN:VTIMEZONE
TZID:America/Chicago
BEGIN:DAYLIGHT
TZOFFSETFROM:-0600
TZOFFSETTO:-0500
TZNAME:CDT
DTSTART:20220313T080000
END:DAYLIGHT
BEGIN:STANDARD
TZOFFSETFROM:-0500
TZOFFSETTO:-0600
TZNAME:CST
DTSTART:20221106T070000
END:STANDARD
BEGIN:DAYLIGHT
TZOFFSETFROM:-0600
TZOFFSETTO:-0500
TZNAME:CDT
DTSTART:20230312T080000
END:DAYLIGHT
BEGIN:STANDARD
TZOFFSETFROM:-0500
TZOFFSETTO:-0600
TZNAME:CST
DTSTART:20231105T070000
END:STANDARD
BEGIN:DAYLIGHT
TZOFFSETFROM:-0600
TZOFFSETTO:-0500
TZNAME:CDT
DTSTART:20240310T080000
END:DAYLIGHT
BEGIN:STANDARD
TZOFFSETFROM:-0500
TZOFFSETTO:-0600
TZNAME:CST
DTSTART:20241103T070000
END:STANDARD
END:VTIMEZONE
BEGIN:VEVENT
DTSTART;TZID=America/Chicago:20230722T103000
DTEND;TZID=America/Chicago:20230722T113000
DTSTAMP:20260419T164518
CREATED:20230719T035401Z
LAST-MODIFIED:20230719T035552Z
UID:6156-1690021800-1690025400@modeshiftomaha.org
SUMMARY:Walk With Us: New Downtown Library
DESCRIPTION:Join Mode Shift members as we explore pedestrian access to the new downtown library location. We’ll meet at 10:30 AM outside the library (1401 Jones Street) and give ourselves a walking tour of the infrastructure on the surrounding blocks\, with particular attention to the challenges posed by the loading docks on 14th Street.
URL:https://modeshiftomaha.org/event/walk-with-us-new-downtown-library/
END:VEVENT
END:VCALENDAR