BEGIN:VCALENDAR
VERSION:2.0
PRODID:-//Mode Shift Omaha - ECPv6.15.17.1//NONSGML v1.0//EN
CALSCALE:GREGORIAN
METHOD:PUBLISH
X-ORIGINAL-URL:https://modeshiftomaha.org
X-WR-CALDESC:Events for Mode Shift Omaha
REFRESH-INTERVAL;VALUE=DURATION:PT1H
X-Robots-Tag:noindex
X-PUBLISHED-TTL:PT1H
BEGIN:VTIMEZONE
TZID:America/Chicago
BEGIN:DAYLIGHT
TZOFFSETFROM:-0600
TZOFFSETTO:-0500
TZNAME:CDT
DTSTART:20220313T080000
END:DAYLIGHT
BEGIN:STANDARD
TZOFFSETFROM:-0500
TZOFFSETTO:-0600
TZNAME:CST
DTSTART:20221106T070000
END:STANDARD
BEGIN:DAYLIGHT
TZOFFSETFROM:-0600
TZOFFSETTO:-0500
TZNAME:CDT
DTSTART:20230312T080000
END:DAYLIGHT
BEGIN:STANDARD
TZOFFSETFROM:-0500
TZOFFSETTO:-0600
TZNAME:CST
DTSTART:20231105T070000
END:STANDARD
BEGIN:DAYLIGHT
TZOFFSETFROM:-0600
TZOFFSETTO:-0500
TZNAME:CDT
DTSTART:20240310T080000
END:DAYLIGHT
BEGIN:STANDARD
TZOFFSETFROM:-0500
TZOFFSETTO:-0600
TZNAME:CST
DTSTART:20241103T070000
END:STANDARD
END:VTIMEZONE
BEGIN:VEVENT
DTSTART;TZID=America/Chicago:20230726T190000
DTEND;TZID=America/Chicago:20230726T201500
DTSTAMP:20260419T164703
CREATED:20230711T013229Z
LAST-MODIFIED:20230711T013230Z
UID:6151-1690398000-1690402500@modeshiftomaha.org
SUMMARY:July Membership Meeting: Brian Spencer from the Medical Center
DESCRIPTION:Join us at our monthly membership as we hear from Brian Spencer at the Medical Center about their exciting projects on Saddle Creek! He’ll be able to speak to the infrastructure planned that will support multimodal transportation\, and answer any questions.  \n\n\n\n \n\n\n\nRegister in advance for this meeting:https://us06web.zoom.us/meeting/register/tZUpd-iprjgtGNaSe41B7qN6F5iV1i9luqbu \n\n\n\nAfter registering\, you will receive a confirmation email containing information about joining the meeting.
URL:https://modeshiftomaha.org/event/july-membership-meeting-brian-spencer-from-the-medical-center/
CATEGORIES:Member Meeting
ATTACH;FMTTYPE=image/png:https://modeshiftomaha.org/wp-content/uploads/2023/07/Group-bike-ride-North-Omaha-tour-from-Preston-Love-4.png
END:VEVENT
END:VCALENDAR