BEGIN:VCALENDAR
VERSION:2.0
PRODID:-//Mode Shift Omaha - ECPv6.15.17.1//NONSGML v1.0//EN
CALSCALE:GREGORIAN
METHOD:PUBLISH
X-WR-CALNAME:Mode Shift Omaha
X-ORIGINAL-URL:https://modeshiftomaha.org
X-WR-CALDESC:Events for Mode Shift Omaha
REFRESH-INTERVAL;VALUE=DURATION:PT1H
X-Robots-Tag:noindex
X-PUBLISHED-TTL:PT1H
BEGIN:VTIMEZONE
TZID:America/Chicago
BEGIN:DAYLIGHT
TZOFFSETFROM:-0600
TZOFFSETTO:-0500
TZNAME:CDT
DTSTART:20220313T080000
END:DAYLIGHT
BEGIN:STANDARD
TZOFFSETFROM:-0500
TZOFFSETTO:-0600
TZNAME:CST
DTSTART:20221106T070000
END:STANDARD
BEGIN:DAYLIGHT
TZOFFSETFROM:-0600
TZOFFSETTO:-0500
TZNAME:CDT
DTSTART:20230312T080000
END:DAYLIGHT
BEGIN:STANDARD
TZOFFSETFROM:-0500
TZOFFSETTO:-0600
TZNAME:CST
DTSTART:20231105T070000
END:STANDARD
BEGIN:DAYLIGHT
TZOFFSETFROM:-0600
TZOFFSETTO:-0500
TZNAME:CDT
DTSTART:20240310T080000
END:DAYLIGHT
BEGIN:STANDARD
TZOFFSETFROM:-0500
TZOFFSETTO:-0600
TZNAME:CST
DTSTART:20241103T070000
END:STANDARD
END:VTIMEZONE
BEGIN:VEVENT
DTSTART;TZID=America/Chicago:20230908T080000
DTEND;TZID=America/Chicago:20230908T163000
DTSTAMP:20260419T135035
CREATED:20230816T144700Z
LAST-MODIFIED:20230815T030234Z
UID:6172-1694160000-1694190600@modeshiftomaha.org
SUMMARY:9/8: Bike Walk Nebraska Summit
DESCRIPTION:Annual Bike Walk Nebraska Summit hosted by Bike Walk Nebraska. More from them:  \n\n\n\nThe Bike Walk Nebraska Summit is a one-day event bringing stakeholders from various sectors together to discuss and advance active transportation in Nebraska. With in-depth workshops and discussions\, the summit focuses on high-priority items for all sectors involved in biking and walking.  \n\n\n\nParticipants will collaborate to identify practical solutions\, share best practices\, and inspire action for a more walkable\, bike-friendly Nebraska. \n\n\n\nJoin us at the annual Bike Walk Nebraska Summit for networking\, learning\, and shaping the future of active transportation in the state. \n\n\n\n**Reach out to Mode Shift Omaha if you plan on going and are interested in carpooling/connecting with other Mode Shifters who are going: contact: info [at] modeshiftomaha.org
URL:https://modeshiftomaha.org/event/9-8-bike-walk-nebraska-summit/
LOCATION:Turbine Flats in Lincoln\, 2124 Y St.\, Lincoln\, Nebraska\, 68503\, United States
CATEGORIES:Community event
ATTACH;FMTTYPE=image/png:https://modeshiftomaha.org/wp-content/uploads/2023/08/Screen-Shot-2023-08-14-at-9.55.52-PM.png
END:VEVENT
END:VCALENDAR