BEGIN:VCALENDAR
VERSION:2.0
PRODID:-//Mode Shift Omaha - ECPv6.15.17.1//NONSGML v1.0//EN
CALSCALE:GREGORIAN
METHOD:PUBLISH
X-ORIGINAL-URL:https://modeshiftomaha.org
X-WR-CALDESC:Events for Mode Shift Omaha
REFRESH-INTERVAL;VALUE=DURATION:PT1H
X-Robots-Tag:noindex
X-PUBLISHED-TTL:PT1H
BEGIN:VTIMEZONE
TZID:America/Chicago
BEGIN:DAYLIGHT
TZOFFSETFROM:-0600
TZOFFSETTO:-0500
TZNAME:CDT
DTSTART:20220313T080000
END:DAYLIGHT
BEGIN:STANDARD
TZOFFSETFROM:-0500
TZOFFSETTO:-0600
TZNAME:CST
DTSTART:20221106T070000
END:STANDARD
BEGIN:DAYLIGHT
TZOFFSETFROM:-0600
TZOFFSETTO:-0500
TZNAME:CDT
DTSTART:20230312T080000
END:DAYLIGHT
BEGIN:STANDARD
TZOFFSETFROM:-0500
TZOFFSETTO:-0600
TZNAME:CST
DTSTART:20231105T070000
END:STANDARD
BEGIN:DAYLIGHT
TZOFFSETFROM:-0600
TZOFFSETTO:-0500
TZNAME:CDT
DTSTART:20240310T080000
END:DAYLIGHT
BEGIN:STANDARD
TZOFFSETFROM:-0500
TZOFFSETTO:-0600
TZNAME:CST
DTSTART:20241103T070000
END:STANDARD
END:VTIMEZONE
BEGIN:VEVENT
DTSTART;TZID=America/Chicago:20230909T100000
DTEND;TZID=America/Chicago:20230909T110000
DTSTAMP:20260419T135127
CREATED:20230906T011325Z
LAST-MODIFIED:20230906T011328Z
UID:6215-1694253600-1694257200@modeshiftomaha.org
SUMMARY:9/9: Elmwood Coffee Meet Up
DESCRIPTION:Join the Bike Team at Elmwood Park to discuss biking in Omaha. Bring your own coffee/tea.The marker on the map shows the approximate location in Elmwood Park\, which is at picnic tables near the south end of the long narrow parking lot that is off of Elmwood Park Rd\, near the playground.
URL:https://modeshiftomaha.org/event/9-9-elmwood-coffee-meet-up/
LOCATION:Elmwood Park\, Elmwood Park Road\, Omaha\, Nebraska\, 68106\, United States
CATEGORIES:Team Meeting
ATTACH;FMTTYPE=image/jpeg:https://modeshiftomaha.org/wp-content/uploads/2023/09/245604616_4504325629662187_7992064577801103806_n.jpg
END:VEVENT
END:VCALENDAR