BEGIN:VCALENDAR
VERSION:2.0
PRODID:-//Mode Shift Omaha - ECPv6.15.17.1//NONSGML v1.0//EN
CALSCALE:GREGORIAN
METHOD:PUBLISH
X-ORIGINAL-URL:https://modeshiftomaha.org
X-WR-CALDESC:Events for Mode Shift Omaha
REFRESH-INTERVAL;VALUE=DURATION:PT1H
X-Robots-Tag:noindex
X-PUBLISHED-TTL:PT1H
BEGIN:VTIMEZONE
TZID:America/Chicago
BEGIN:DAYLIGHT
TZOFFSETFROM:-0600
TZOFFSETTO:-0500
TZNAME:CDT
DTSTART:20220313T080000
END:DAYLIGHT
BEGIN:STANDARD
TZOFFSETFROM:-0500
TZOFFSETTO:-0600
TZNAME:CST
DTSTART:20221106T070000
END:STANDARD
BEGIN:DAYLIGHT
TZOFFSETFROM:-0600
TZOFFSETTO:-0500
TZNAME:CDT
DTSTART:20230312T080000
END:DAYLIGHT
BEGIN:STANDARD
TZOFFSETFROM:-0500
TZOFFSETTO:-0600
TZNAME:CST
DTSTART:20231105T070000
END:STANDARD
BEGIN:DAYLIGHT
TZOFFSETFROM:-0600
TZOFFSETTO:-0500
TZNAME:CDT
DTSTART:20240310T080000
END:DAYLIGHT
BEGIN:STANDARD
TZOFFSETFROM:-0500
TZOFFSETTO:-0600
TZNAME:CST
DTSTART:20241103T070000
END:STANDARD
END:VTIMEZONE
BEGIN:VEVENT
DTSTART;TZID=America/Chicago:20230926T173000
DTEND;TZID=America/Chicago:20230926T193000
DTSTAMP:20260419T122434
CREATED:20230828T151409Z
LAST-MODIFIED:20230828T151411Z
UID:6196-1695749400-1695756600@modeshiftomaha.org
SUMMARY:9/26: Bike Skills 101
DESCRIPTION:This event is hosted by Bike Walk Nebraska.  \n\n\n\nThe Bikes Skills 101: Learn-to-Ride for adults is for older teens (ages 15+) and adults who have never learned to ride a bicycle or have not been on a bike in a long time. \n\n\n\nWith our safe\, easy\, and efficient curriculum\, participants will gain the confidence to master fundamental bike riding skills. \n\n\n\nIn this class\, you’ll learn:– Basic bike riding skills\, including starting\, stopping\, steering\, and balancing– Safe cycling practices– How to adjust a bike helmet for appropriate fit– How to use the Bikeshare system and about the overall benefits of cycling for health\, fitness\, and transportation \n\n\n\nBikes and helmets are provided for all participants. \n\n\n\nMost participants will leave knowing how to ride a bike without support; if not\, they’ll leave equipped to keep learning independently. \n\n\n\nParticipants will also gain access to the Heartland Bikeshare System. \n\n\n\nThis class is a part the Nebraska Equity in Active Transportation (NEAT) initiative which is funded by the Omaha Community Foundation. \n\n\n\nBike Walk Event page: https://www.bikewalknebraska.org/news-events/event-calendar.html/event/2023/09/26/bike-skills-101-learn-to-ride-adults-/447759
URL:https://modeshiftomaha.org/event/9-26-bike-skills-101/
LOCATION:Bike Walk event location\, 1144 N 11th St Suite B\, Omaha\, Nebraska\, 68102\, United States
CATEGORIES:Community event
ATTACH;FMTTYPE=image/png:https://modeshiftomaha.org/wp-content/uploads/2023/08/Screen-Shot-2023-08-28-at-10.05.28-AM.png
END:VEVENT
END:VCALENDAR