BEGIN:VCALENDAR
VERSION:2.0
PRODID:-//Mode Shift Omaha - ECPv6.15.17.1//NONSGML v1.0//EN
CALSCALE:GREGORIAN
METHOD:PUBLISH
X-WR-CALNAME:Mode Shift Omaha
X-ORIGINAL-URL:https://modeshiftomaha.org
X-WR-CALDESC:Events for Mode Shift Omaha
REFRESH-INTERVAL;VALUE=DURATION:PT1H
X-Robots-Tag:noindex
X-PUBLISHED-TTL:PT1H
BEGIN:VTIMEZONE
TZID:America/Chicago
BEGIN:DAYLIGHT
TZOFFSETFROM:-0600
TZOFFSETTO:-0500
TZNAME:CDT
DTSTART:20220313T080000
END:DAYLIGHT
BEGIN:STANDARD
TZOFFSETFROM:-0500
TZOFFSETTO:-0600
TZNAME:CST
DTSTART:20221106T070000
END:STANDARD
BEGIN:DAYLIGHT
TZOFFSETFROM:-0600
TZOFFSETTO:-0500
TZNAME:CDT
DTSTART:20230312T080000
END:DAYLIGHT
BEGIN:STANDARD
TZOFFSETFROM:-0500
TZOFFSETTO:-0600
TZNAME:CST
DTSTART:20231105T070000
END:STANDARD
BEGIN:DAYLIGHT
TZOFFSETFROM:-0600
TZOFFSETTO:-0500
TZNAME:CDT
DTSTART:20240310T080000
END:DAYLIGHT
BEGIN:STANDARD
TZOFFSETFROM:-0500
TZOFFSETTO:-0600
TZNAME:CST
DTSTART:20241103T070000
END:STANDARD
END:VTIMEZONE
BEGIN:VEVENT
DTSTART;TZID=America/Chicago:20231102T173000
DTEND;TZID=America/Chicago:20231102T183000
DTSTAMP:20260419T110046
CREATED:20231013T183635Z
LAST-MODIFIED:20231013T203447Z
UID:6247-1698946200-1698949800@modeshiftomaha.org
SUMMARY:11/2 Walk with Us at North Omaha Transit Center
DESCRIPTION:Join us at North Omaha Transit Center for an autumn Walk with Us event. We’ll be looking critically at the safety and connectivity along Ames\, with a particular focus on pedestrian routes to and from North High School and the North Omaha Trail. We should have daylight on our side for the hourlong walk\, but please dress for the weather! Signs will be available.  \n\n\n\n \n\n\n\nWhy here and now? Here are a couple of reasons: \n\n\n\n \n\n\n\n\nThis segment of Ames is in the Priority High Injury Network (HIN) identified by Omaha’s Vision Zero plan. Within the Priority HIN\, crashes involving fatal and severe injuries are over 9x more likely to occur.\n\n\n\nThere are multiple schools within walking distance of NOTC. Students have always been power users of transit\, and this is especially true since Metro Transit introduced its K12 Rides Free program.  But do kids have safe walking routes to and from transit?
URL:https://modeshiftomaha.org/event/walk-with-us-at-north-omaha-transit-center/
LOCATION:North Omaha Transit Center\, 4308 N 31st Ave\, Omaha\, Nebraska\, 68111\, United States
CATEGORIES:Community event
ATTACH;FMTTYPE=image/jpeg:https://modeshiftomaha.org/wp-content/uploads/2022/08/IMG_1901-scaled.jpeg
END:VEVENT
END:VCALENDAR