BEGIN:VCALENDAR
VERSION:2.0
PRODID:-//Mode Shift Omaha - ECPv6.15.17.1//NONSGML v1.0//EN
CALSCALE:GREGORIAN
METHOD:PUBLISH
X-ORIGINAL-URL:https://modeshiftomaha.org
X-WR-CALDESC:Events for Mode Shift Omaha
REFRESH-INTERVAL;VALUE=DURATION:PT1H
X-Robots-Tag:noindex
X-PUBLISHED-TTL:PT1H
BEGIN:VTIMEZONE
TZID:America/Chicago
BEGIN:DAYLIGHT
TZOFFSETFROM:-0600
TZOFFSETTO:-0500
TZNAME:CDT
DTSTART:20220313T080000
END:DAYLIGHT
BEGIN:STANDARD
TZOFFSETFROM:-0500
TZOFFSETTO:-0600
TZNAME:CST
DTSTART:20221106T070000
END:STANDARD
BEGIN:DAYLIGHT
TZOFFSETFROM:-0600
TZOFFSETTO:-0500
TZNAME:CDT
DTSTART:20230312T080000
END:DAYLIGHT
BEGIN:STANDARD
TZOFFSETFROM:-0500
TZOFFSETTO:-0600
TZNAME:CST
DTSTART:20231105T070000
END:STANDARD
BEGIN:DAYLIGHT
TZOFFSETFROM:-0600
TZOFFSETTO:-0500
TZNAME:CDT
DTSTART:20240310T080000
END:DAYLIGHT
BEGIN:STANDARD
TZOFFSETFROM:-0500
TZOFFSETTO:-0600
TZNAME:CST
DTSTART:20241103T070000
END:STANDARD
END:VTIMEZONE
BEGIN:VEVENT
DTSTART;TZID=America/Chicago:20231104T100000
DTEND;TZID=America/Chicago:20231104T120000
DTSTAMP:20260419T110205
CREATED:20231101T155502Z
LAST-MODIFIED:20231101T163048Z
UID:6266-1699092000-1699099200@modeshiftomaha.org
SUMMARY:11/4: Cranksgiving
DESCRIPTION:Join Mode Shift Omaha’s Bike Team on Saturday November 4th for Cranksgiving. Cranksgiving is “is a food drive on two wheels. Part bike ride\, part food drive\, and part scavenger hunt\,” and rides are happening across the country. We’re meeting at Dry Spokes\, 1901 Leavenworth St at 10:00 AM. Then\, we’ll ride to local food stores and return by 12:00 PM. Finally\, we’ll ride to Together Inc. to deliver the donations! \n\n\n\nDon’t be a turkey\, be there!!
URL:https://modeshiftomaha.org/event/cranksgiving/
LOCATION:Dry Spokes\, 1901 Leavenworth St.\, Omaha\, Nebraska\, United States
CATEGORIES:Community event
ATTACH;FMTTYPE=image/jpeg:https://modeshiftomaha.org/wp-content/uploads/2023/09/IMG_1628.jpg
END:VEVENT
END:VCALENDAR