BEGIN:VCALENDAR
VERSION:2.0
PRODID:-//Mode Shift Omaha - ECPv6.15.17.1//NONSGML v1.0//EN
CALSCALE:GREGORIAN
METHOD:PUBLISH
X-ORIGINAL-URL:https://modeshiftomaha.org
X-WR-CALDESC:Events for Mode Shift Omaha
REFRESH-INTERVAL;VALUE=DURATION:PT1H
X-Robots-Tag:noindex
X-PUBLISHED-TTL:PT1H
BEGIN:VTIMEZONE
TZID:America/Chicago
BEGIN:DAYLIGHT
TZOFFSETFROM:-0600
TZOFFSETTO:-0500
TZNAME:CDT
DTSTART:20220313T080000
END:DAYLIGHT
BEGIN:STANDARD
TZOFFSETFROM:-0500
TZOFFSETTO:-0600
TZNAME:CST
DTSTART:20221106T070000
END:STANDARD
BEGIN:DAYLIGHT
TZOFFSETFROM:-0600
TZOFFSETTO:-0500
TZNAME:CDT
DTSTART:20230312T080000
END:DAYLIGHT
BEGIN:STANDARD
TZOFFSETFROM:-0500
TZOFFSETTO:-0600
TZNAME:CST
DTSTART:20231105T070000
END:STANDARD
BEGIN:DAYLIGHT
TZOFFSETFROM:-0600
TZOFFSETTO:-0500
TZNAME:CDT
DTSTART:20240310T080000
END:DAYLIGHT
BEGIN:STANDARD
TZOFFSETFROM:-0500
TZOFFSETTO:-0600
TZNAME:CST
DTSTART:20241103T070000
END:STANDARD
END:VTIMEZONE
BEGIN:VEVENT
DTSTART;TZID=America/Chicago:20231114T140000
DTEND;TZID=America/Chicago:20231114T170000
DTSTAMP:20260419T110223
CREATED:20231101T163004Z
LAST-MODIFIED:20231113T031958Z
UID:6271-1699970400-1699981200@modeshiftomaha.org
SUMMARY:11/14: Vision Zero Plan Vote at City Council
DESCRIPTION:The Omaha City Council will vote on a resolution to adopt the Vision Zero Plan in the City Council meeting on Tuesday November 14. From the public events and information shared by Vision Zero Omaha\, it seems like the plan will be good. You should be able to access the City Council meeting agenda and related materials here\, once these are posted.   \n\n\n\nVision Zero Omaha logo with pedestrian\, bike\, and car icons.\n\n\n\nIt would be great to have folks speak in support of the plan at City Council (and highlight any gaps/opportunities for improvement). There are multiple options for voicing your support: \n\n\n\n\nYou can just show up in person and speak on an agenda item\n\n\n\nYou can speak virtually via Zoom (see instructions below)\n\n\n\nYou could submit written testimony in support to the City Clerk at: cityclerk@cityofomaha.org (also feel free to include your Councilmember and/or other Councilmembers)\n\n\n\n\nSpeaking virtually at City Council \n\n\n\nTo speak on an agenda item through Zoom\, email the City Clerk at cityclerk@cityofomaha.org with the following information: Name Address Item(s) you wish to speak on Proponent or opponent Registrations must be completed by 4:30 PM on the Monday prior to the meeting date (unless otherwise noted on the agenda). *A registration is complete once you have submitted the Zoom meeting invite and receive a “Omaha City Council Meeting Confirmation” email. There is no guarantee of your participation via Zoom in the meeting if all of the above information is not finalized by the deadline. \n\n\n\nClick here to find instructions and guidelines for Zoom participation at City Council meetings.  
URL:https://modeshiftomaha.org/event/11-14-vision-zero-plan-vote-at-city-council/
CATEGORIES:Community event
ATTACH;FMTTYPE=image/jpeg:https://modeshiftomaha.org/wp-content/uploads/2023/11/IMG_1381.jpg
END:VEVENT
END:VCALENDAR