BEGIN:VCALENDAR
VERSION:2.0
PRODID:-//Mode Shift Omaha - ECPv6.15.17.1//NONSGML v1.0//EN
CALSCALE:GREGORIAN
METHOD:PUBLISH
X-WR-CALNAME:Mode Shift Omaha
X-ORIGINAL-URL:https://modeshiftomaha.org
X-WR-CALDESC:Events for Mode Shift Omaha
REFRESH-INTERVAL;VALUE=DURATION:PT1H
X-Robots-Tag:noindex
X-PUBLISHED-TTL:PT1H
BEGIN:VTIMEZONE
TZID:America/Chicago
BEGIN:DAYLIGHT
TZOFFSETFROM:-0600
TZOFFSETTO:-0500
TZNAME:CDT
DTSTART:20220313T080000
END:DAYLIGHT
BEGIN:STANDARD
TZOFFSETFROM:-0500
TZOFFSETTO:-0600
TZNAME:CST
DTSTART:20221106T070000
END:STANDARD
BEGIN:DAYLIGHT
TZOFFSETFROM:-0600
TZOFFSETTO:-0500
TZNAME:CDT
DTSTART:20230312T080000
END:DAYLIGHT
BEGIN:STANDARD
TZOFFSETFROM:-0500
TZOFFSETTO:-0600
TZNAME:CST
DTSTART:20231105T070000
END:STANDARD
BEGIN:DAYLIGHT
TZOFFSETFROM:-0600
TZOFFSETTO:-0500
TZNAME:CDT
DTSTART:20240310T080000
END:DAYLIGHT
BEGIN:STANDARD
TZOFFSETFROM:-0500
TZOFFSETTO:-0600
TZNAME:CST
DTSTART:20241103T070000
END:STANDARD
END:VTIMEZONE
BEGIN:VEVENT
DTSTART;TZID=America/Chicago:20231206T173000
DTEND;TZID=America/Chicago:20231206T183000
DTSTAMP:20260419T093608
CREATED:20231125T170546Z
LAST-MODIFIED:20231125T205734Z
UID:6325-1701883800-1701887400@modeshiftomaha.org
SUMMARY:12/6: Social Media Training
DESCRIPTION:We rely on volunteers to run our social media and are excited to train and onboard some new folks to contribute to our virtual presence! Join us on Zoom to learn about the tools we use\, how to access them\, and the type of content we like to post. Zoom link to join: https://us06web.zoom.us/j/85978350347?pwd=3w9AO9dsdm6zybsZBCgxyRsEz7bsfh.1
URL:https://modeshiftomaha.org/event/12-6-social-media-training/
CATEGORIES:Team Meeting
ATTACH;FMTTYPE=image/jpeg:https://modeshiftomaha.org/wp-content/uploads/2023/11/404361268_806496141504859_4597314205341779077_n.jpg
END:VEVENT
BEGIN:VEVENT
DTSTART;TZID=America/Chicago:20231206T190000
DTEND;TZID=America/Chicago:20231206T200000
DTSTAMP:20260419T093608
CREATED:20231104T170529Z
LAST-MODIFIED:20231125T174045Z
UID:6279-1701889200-1701892800@modeshiftomaha.org
SUMMARY:Bike Team Meeting
DESCRIPTION:Join us for our December Bike Team meeting in person at Dry Spokes. Focus will be on debriefing the Cranksgiving event on November 4th\, collaborations with other bike groups/bike shops\, and planning for 2024.
URL:https://modeshiftomaha.org/event/bike-team-meeting-6/
LOCATION:Dry Spokes\, 1901 Leavenworth St.\, Omaha\, Nebraska\, United States
CATEGORIES:Team Meeting
ATTACH;FMTTYPE=image/jpeg:https://modeshiftomaha.org/wp-content/uploads/2022/10/Bike-lane-protest-in-front-of-city-hall-group-of-people.jpeg
END:VEVENT
END:VCALENDAR