BEGIN:VCALENDAR
VERSION:2.0
PRODID:-//Mode Shift Omaha - ECPv6.15.17.1//NONSGML v1.0//EN
CALSCALE:GREGORIAN
METHOD:PUBLISH
X-ORIGINAL-URL:https://modeshiftomaha.org
X-WR-CALDESC:Events for Mode Shift Omaha
REFRESH-INTERVAL;VALUE=DURATION:PT1H
X-Robots-Tag:noindex
X-PUBLISHED-TTL:PT1H
BEGIN:VTIMEZONE
TZID:America/Chicago
BEGIN:DAYLIGHT
TZOFFSETFROM:-0600
TZOFFSETTO:-0500
TZNAME:CDT
DTSTART:20220313T080000
END:DAYLIGHT
BEGIN:STANDARD
TZOFFSETFROM:-0500
TZOFFSETTO:-0600
TZNAME:CST
DTSTART:20221106T070000
END:STANDARD
BEGIN:DAYLIGHT
TZOFFSETFROM:-0600
TZOFFSETTO:-0500
TZNAME:CDT
DTSTART:20230312T080000
END:DAYLIGHT
BEGIN:STANDARD
TZOFFSETFROM:-0500
TZOFFSETTO:-0600
TZNAME:CST
DTSTART:20231105T070000
END:STANDARD
BEGIN:DAYLIGHT
TZOFFSETFROM:-0600
TZOFFSETTO:-0500
TZNAME:CDT
DTSTART:20240310T080000
END:DAYLIGHT
BEGIN:STANDARD
TZOFFSETFROM:-0500
TZOFFSETTO:-0600
TZNAME:CST
DTSTART:20241103T070000
END:STANDARD
END:VTIMEZONE
BEGIN:VEVENT
DTSTART;TZID=America/Chicago:20231209T100000
DTEND;TZID=America/Chicago:20231209T110000
DTSTAMP:20260419T093730
CREATED:20231124T160044Z
LAST-MODIFIED:20231204T154100Z
UID:6304-1702116000-1702119600@modeshiftomaha.org
SUMMARY:12/9: Coffee Meet Up
DESCRIPTION:UPDATE: Free Bikes for Kidz Omaha (FB4K) has finished all of the bike builds for this year\, which is great!  So\, FB4K does not need volunteers on Saturday. Instead we’re just going to have a coffee meet up at 10 am at Astute Coffee at 1818 Dodge St. There’s no agenda and anyone is welcome to talk biking or transportation in Omaha and learn more about Mode Shift.
URL:https://modeshiftomaha.org/event/12-9-volunteer-at-free-bikes-4-kidz/
LOCATION:Astute Coffee\, 1818 Dodge St\, Omaha\, Nebraska\, 68102\, United States Minor Outlying Islands
CATEGORIES:Community event,Team Meeting
ATTACH;FMTTYPE=image/jpeg:https://modeshiftomaha.org/wp-content/uploads/2023/09/245604616_4504325629662187_7992064577801103806_n.jpg
END:VEVENT
END:VCALENDAR