BEGIN:VCALENDAR
VERSION:2.0
PRODID:-//Mode Shift Omaha - ECPv6.15.17.1//NONSGML v1.0//EN
CALSCALE:GREGORIAN
METHOD:PUBLISH
X-ORIGINAL-URL:https://modeshiftomaha.org
X-WR-CALDESC:Events for Mode Shift Omaha
REFRESH-INTERVAL;VALUE=DURATION:PT1H
X-Robots-Tag:noindex
X-PUBLISHED-TTL:PT1H
BEGIN:VTIMEZONE
TZID:America/Chicago
BEGIN:DAYLIGHT
TZOFFSETFROM:-0600
TZOFFSETTO:-0500
TZNAME:CDT
DTSTART:20220313T080000
END:DAYLIGHT
BEGIN:STANDARD
TZOFFSETFROM:-0500
TZOFFSETTO:-0600
TZNAME:CST
DTSTART:20221106T070000
END:STANDARD
BEGIN:DAYLIGHT
TZOFFSETFROM:-0600
TZOFFSETTO:-0500
TZNAME:CDT
DTSTART:20230312T080000
END:DAYLIGHT
BEGIN:STANDARD
TZOFFSETFROM:-0500
TZOFFSETTO:-0600
TZNAME:CST
DTSTART:20231105T070000
END:STANDARD
BEGIN:DAYLIGHT
TZOFFSETFROM:-0600
TZOFFSETTO:-0500
TZNAME:CDT
DTSTART:20240310T080000
END:DAYLIGHT
BEGIN:STANDARD
TZOFFSETFROM:-0500
TZOFFSETTO:-0600
TZNAME:CST
DTSTART:20241103T070000
END:STANDARD
END:VTIMEZONE
BEGIN:VEVENT
DTSTART;TZID=America/Chicago:20231213T190000
DTEND;TZID=America/Chicago:20231213T200000
DTSTAMP:20260419T093730
CREATED:20231125T152301Z
LAST-MODIFIED:20231213T044413Z
UID:6322-1702494000-1702497600@modeshiftomaha.org
SUMMARY:12/13: Walkability Team Meeting
DESCRIPTION:Join the Mode Shift Walkability Team at their December meeting via Zoom to get involved in improving pedestrian infrastructure in Omaha. We will be discussing Walk with Us events\, ongoing conversations with the City\, and more. All are welcome to join and connect with the Walkability Team. \n\n\n\nFacebook event: https://www.facebook.com/events/1076541523764886
URL:https://modeshiftomaha.org/event/12-13-walkability-team-meeting/
CATEGORIES:Team Meeting
ATTACH;FMTTYPE=image/png:https://modeshiftomaha.org/wp-content/uploads/2023/11/IMG_1820.png
END:VEVENT
END:VCALENDAR