BEGIN:VCALENDAR
VERSION:2.0
PRODID:-//Mode Shift Omaha - ECPv6.15.17.1//NONSGML v1.0//EN
CALSCALE:GREGORIAN
METHOD:PUBLISH
X-WR-CALNAME:Mode Shift Omaha
X-ORIGINAL-URL:https://modeshiftomaha.org
X-WR-CALDESC:Events for Mode Shift Omaha
REFRESH-INTERVAL;VALUE=DURATION:PT1H
X-Robots-Tag:noindex
X-PUBLISHED-TTL:PT1H
BEGIN:VTIMEZONE
TZID:America/Chicago
BEGIN:DAYLIGHT
TZOFFSETFROM:-0600
TZOFFSETTO:-0500
TZNAME:CDT
DTSTART:20230312T080000
END:DAYLIGHT
BEGIN:STANDARD
TZOFFSETFROM:-0500
TZOFFSETTO:-0600
TZNAME:CST
DTSTART:20231105T070000
END:STANDARD
BEGIN:DAYLIGHT
TZOFFSETFROM:-0600
TZOFFSETTO:-0500
TZNAME:CDT
DTSTART:20240310T080000
END:DAYLIGHT
BEGIN:STANDARD
TZOFFSETFROM:-0500
TZOFFSETTO:-0600
TZNAME:CST
DTSTART:20241103T070000
END:STANDARD
BEGIN:DAYLIGHT
TZOFFSETFROM:-0600
TZOFFSETTO:-0500
TZNAME:CDT
DTSTART:20250309T080000
END:DAYLIGHT
BEGIN:STANDARD
TZOFFSETFROM:-0500
TZOFFSETTO:-0600
TZNAME:CST
DTSTART:20251102T070000
END:STANDARD
END:VTIMEZONE
BEGIN:VEVENT
DTSTART;TZID=America/Chicago:20240103T190000
DTEND;TZID=America/Chicago:20240103T200000
DTSTAMP:20260419T081159
CREATED:20231213T231855Z
LAST-MODIFIED:20231213T231858Z
UID:6354-1704308400-1704312000@modeshiftomaha.org
SUMMARY:1/3: Bike Team Meeting
DESCRIPTION:Join the Bike Team for our January meeting in person at Dry Spokes on Wednesday January 3 at 7pm. Focus will be on 2024 planning including bike valet\, bike ride\, and education events.
URL:https://modeshiftomaha.org/event/1-3-bike-team-meeting/
LOCATION:Dry Spokes\, 1901 Leavenworth St.\, Omaha\, Nebraska\, United States
CATEGORIES:Team Meeting
ATTACH;FMTTYPE=image/jpeg:https://modeshiftomaha.org/wp-content/uploads/2022/10/Bike-lane-protest-in-front-of-city-hall-group-of-people.jpeg
END:VEVENT
END:VCALENDAR