BEGIN:VCALENDAR
VERSION:2.0
PRODID:-//Mode Shift Omaha - ECPv6.15.17.1//NONSGML v1.0//EN
CALSCALE:GREGORIAN
METHOD:PUBLISH
X-WR-CALNAME:Mode Shift Omaha
X-ORIGINAL-URL:https://modeshiftomaha.org
X-WR-CALDESC:Events for Mode Shift Omaha
REFRESH-INTERVAL;VALUE=DURATION:PT1H
X-Robots-Tag:noindex
X-PUBLISHED-TTL:PT1H
BEGIN:VTIMEZONE
TZID:America/Chicago
BEGIN:DAYLIGHT
TZOFFSETFROM:-0600
TZOFFSETTO:-0500
TZNAME:CDT
DTSTART:20230312T080000
END:DAYLIGHT
BEGIN:STANDARD
TZOFFSETFROM:-0500
TZOFFSETTO:-0600
TZNAME:CST
DTSTART:20231105T070000
END:STANDARD
BEGIN:DAYLIGHT
TZOFFSETFROM:-0600
TZOFFSETTO:-0500
TZNAME:CDT
DTSTART:20240310T080000
END:DAYLIGHT
BEGIN:STANDARD
TZOFFSETFROM:-0500
TZOFFSETTO:-0600
TZNAME:CST
DTSTART:20241103T070000
END:STANDARD
BEGIN:DAYLIGHT
TZOFFSETFROM:-0600
TZOFFSETTO:-0500
TZNAME:CDT
DTSTART:20250309T080000
END:DAYLIGHT
BEGIN:STANDARD
TZOFFSETFROM:-0500
TZOFFSETTO:-0600
TZNAME:CST
DTSTART:20251102T070000
END:STANDARD
END:VTIMEZONE
BEGIN:VEVENT
DTSTART;TZID=America/Chicago:20240111T170000
DTEND;TZID=America/Chicago:20240111T190000
DTSTAMP:20260419T081200
CREATED:20231213T050137Z
LAST-MODIFIED:20231213T194456Z
UID:6342-1704992400-1704999600@modeshiftomaha.org
SUMMARY:1/11: Happy Hour
DESCRIPTION:Join us for a happy hour at Muchachos from 5 to 7 pm on Thursday\, January 11th. There’s no agenda\, and all supporters of Mode Shift are invited. Muchachos is a restaurant on South 13th Street that offers tacos\, rice bowls\, and other dishes from New Mexico. Drinks include craft beer\, cider\, cocktails (including diverse margaritas) and sodas.
URL:https://modeshiftomaha.org/event/1-11-happy-hour/
LOCATION:Muchachos\, 1258 S 13th S\, Omaha\, Nebraska\, 68108\, United States
CATEGORIES:Social event
ATTACH;FMTTYPE=image/png:https://modeshiftomaha.org/wp-content/uploads/2023/12/IMG_0833.png
END:VEVENT
END:VCALENDAR