BEGIN:VCALENDAR
VERSION:2.0
PRODID:-//Mode Shift Omaha - ECPv6.15.17.1//NONSGML v1.0//EN
CALSCALE:GREGORIAN
METHOD:PUBLISH
X-WR-CALNAME:Mode Shift Omaha
X-ORIGINAL-URL:https://modeshiftomaha.org
X-WR-CALDESC:Events for Mode Shift Omaha
REFRESH-INTERVAL;VALUE=DURATION:PT1H
X-Robots-Tag:noindex
X-PUBLISHED-TTL:PT1H
BEGIN:VTIMEZONE
TZID:America/Chicago
BEGIN:DAYLIGHT
TZOFFSETFROM:-0600
TZOFFSETTO:-0500
TZNAME:CDT
DTSTART:20220313T080000
END:DAYLIGHT
BEGIN:STANDARD
TZOFFSETFROM:-0500
TZOFFSETTO:-0600
TZNAME:CST
DTSTART:20221106T070000
END:STANDARD
BEGIN:DAYLIGHT
TZOFFSETFROM:-0600
TZOFFSETTO:-0500
TZNAME:CDT
DTSTART:20230312T080000
END:DAYLIGHT
BEGIN:STANDARD
TZOFFSETFROM:-0500
TZOFFSETTO:-0600
TZNAME:CST
DTSTART:20231105T070000
END:STANDARD
BEGIN:DAYLIGHT
TZOFFSETFROM:-0600
TZOFFSETTO:-0500
TZNAME:CDT
DTSTART:20240310T080000
END:DAYLIGHT
BEGIN:STANDARD
TZOFFSETFROM:-0500
TZOFFSETTO:-0600
TZNAME:CST
DTSTART:20241103T070000
END:STANDARD
END:VTIMEZONE
BEGIN:VEVENT
DTSTART;TZID=America/Chicago:20230207T173000
DTEND;TZID=America/Chicago:20230207T183000
DTSTAMP:20260419T201316
CREATED:20230129T224743Z
LAST-MODIFIED:20230129T224747Z
UID:5883-1675791000-1675794600@modeshiftomaha.org
SUMMARY:Missing Middle Housing Meeting
DESCRIPTION:Learn more about the ongoing campaign to get more middle density housing development in Omaha on the Missing Middle website here. Email Grace at missingmiddleomaha@gmail.com to get involved! 
URL:https://modeshiftomaha.org/event/missing-middle-housing-meeting/
CATEGORIES:Team Meeting
ATTACH;FMTTYPE=image/png:https://modeshiftomaha.org/wp-content/uploads/2023/01/Screen-Shot-2023-01-29-at-4.43.06-PM.png
END:VEVENT
BEGIN:VEVENT
DTSTART;TZID=America/Chicago:20230202T190000
DTEND;TZID=America/Chicago:20230202T200000
DTSTAMP:20260419T201316
CREATED:20230129T221740Z
LAST-MODIFIED:20230129T223237Z
UID:5879-1675364400-1675368000@modeshiftomaha.org
SUMMARY:Bike Team Meeting
DESCRIPTION:Join us for our February Bike Team meeting to follow up on plans for bike valet at upcoming events (when it warms up)\, bike bus to school project\, sign-on letter to require detours for trail closures\, and more. We’re meeting virtually on Zoom for the winter months\, register here.
URL:https://modeshiftomaha.org/event/bike-team-meeting/
ATTACH;FMTTYPE=image/jpeg:https://modeshiftomaha.org/wp-content/uploads/2022/10/Bike-lane-protest-in-front-of-city-hall-group-of-people.jpeg
END:VEVENT
END:VCALENDAR