BEGIN:VCALENDAR
VERSION:2.0
PRODID:-//Mode Shift Omaha - ECPv6.15.17.1//NONSGML v1.0//EN
CALSCALE:GREGORIAN
METHOD:PUBLISH
X-ORIGINAL-URL:https://modeshiftomaha.org
X-WR-CALDESC:Events for Mode Shift Omaha
REFRESH-INTERVAL;VALUE=DURATION:PT1H
X-Robots-Tag:noindex
X-PUBLISHED-TTL:PT1H
BEGIN:VTIMEZONE
TZID:America/Chicago
BEGIN:DAYLIGHT
TZOFFSETFROM:-0600
TZOFFSETTO:-0500
TZNAME:CDT
DTSTART:20220313T080000
END:DAYLIGHT
BEGIN:STANDARD
TZOFFSETFROM:-0500
TZOFFSETTO:-0600
TZNAME:CST
DTSTART:20221106T070000
END:STANDARD
BEGIN:DAYLIGHT
TZOFFSETFROM:-0600
TZOFFSETTO:-0500
TZNAME:CDT
DTSTART:20230312T080000
END:DAYLIGHT
BEGIN:STANDARD
TZOFFSETFROM:-0500
TZOFFSETTO:-0600
TZNAME:CST
DTSTART:20231105T070000
END:STANDARD
BEGIN:DAYLIGHT
TZOFFSETFROM:-0600
TZOFFSETTO:-0500
TZNAME:CDT
DTSTART:20240310T080000
END:DAYLIGHT
BEGIN:STANDARD
TZOFFSETFROM:-0500
TZOFFSETTO:-0600
TZNAME:CST
DTSTART:20241103T070000
END:STANDARD
END:VTIMEZONE
BEGIN:VEVENT
DTSTART;TZID=America/Chicago:20230307T190000
DTEND;TZID=America/Chicago:20230307T200000
DTSTAMP:20260419T210647
CREATED:20230223T014145Z
LAST-MODIFIED:20230223T014148Z
UID:5926-1678215600-1678219200@modeshiftomaha.org
SUMMARY:Bike Team Meeting
DESCRIPTION:Join us for our March Bike Team meeting to follow up on plans for bike valet at upcoming events (when it warms up)\, bike bus to school project\, sign-on letter to require detours for trail closures\, and more. We’re meeting virtually on Zoom for the colder months\, register here.
URL:https://modeshiftomaha.org/event/bike-team-meeting-2/
CATEGORIES:Team Meeting
ATTACH;FMTTYPE=image/jpeg:https://modeshiftomaha.org/wp-content/uploads/2022/10/Bike-lane-protest-group-of-cyclists.jpeg
END:VEVENT
BEGIN:VEVENT
DTSTART;TZID=America/Chicago:20230308T190000
DTEND;TZID=America/Chicago:20230308T200000
DTSTAMP:20260419T210647
CREATED:20230223T015442Z
LAST-MODIFIED:20230223T015444Z
UID:5928-1678302000-1678305600@modeshiftomaha.org
SUMMARY:Walkability Team Meeting
DESCRIPTION:Join the Mode Shift Walkability Team at their March meeting via Zoom to get involved in improving pedestrian infrastructure in Omaha. There will be discussion of recent Vision Zero update from the City of Omaha\, an in-person social event coming up on March 16\, ongoing conversations with the City\, and more.
URL:https://modeshiftomaha.org/event/walkability-team-meeting-2/
CATEGORIES:Team Meeting
ATTACH;FMTTYPE=image/jpeg:https://modeshiftomaha.org/wp-content/uploads/2022/08/Joslyn-Castle-neighborhood-walk-with-us-1.jpeg
END:VEVENT
BEGIN:VEVENT
DTSTART;TZID=America/Chicago:20230316T170000
DTEND;TZID=America/Chicago:20230316T190000
DTSTAMP:20260419T210647
CREATED:20230223T020523Z
LAST-MODIFIED:20230223T020912Z
UID:5930-1678986000-1678993200@modeshiftomaha.org
SUMMARY:Happy Hour!
DESCRIPTION:Join the Mode Shift Omaha Walkability Team for an in-person happy hour to connect with other Mode Shifters and talk about walkability\, biking\, transit\, mode shifting\, and more!  Anyone interested in improving transportation in Omaha is welcome.
URL:https://modeshiftomaha.org/event/happy-hour/
LOCATION:Rathskeller Bier Haus\, 4524 Farnam St.\, Omaha\, Nebraska\, 68132\, United States
CATEGORIES:Community event
ATTACH;FMTTYPE=image/png:https://modeshiftomaha.org/wp-content/uploads/2023/02/Screen-Shot-2023-02-22-at-8.02.36-PM.png
END:VEVENT
BEGIN:VEVENT
DTSTART;TZID=America/Chicago:20230322T190000
DTEND;TZID=America/Chicago:20230322T200000
DTSTAMP:20260419T210647
CREATED:20230223T022632Z
LAST-MODIFIED:20230223T022634Z
UID:5938-1679511600-1679515200@modeshiftomaha.org
SUMMARY:March Member Meeting
DESCRIPTION:Join Mode Shift Omaha for our March member meeting via Zoom with special guest Kevin Carder from the City of Omaha’s Planning Department. Kevin will be discussing the City’s ongoing Active Mobility Master Planning process (aka the bike and pedestrian master plan).
URL:https://modeshiftomaha.org/event/march-member-meeting/
CATEGORIES:Member Meeting
ATTACH;FMTTYPE=image/png:https://modeshiftomaha.org/wp-content/uploads/2023/02/Screen-Shot-2023-02-22-at-8.23.02-PM.png
END:VEVENT
BEGIN:VEVENT
DTSTART;TZID=America/Chicago:20230328T190000
DTEND;TZID=America/Chicago:20230328T200000
DTSTAMP:20260419T210647
CREATED:20230323T010813Z
LAST-MODIFIED:20230323T010816Z
UID:5970-1680030000-1680033600@modeshiftomaha.org
SUMMARY:Transit Team Meeting
DESCRIPTION:Join Mode Shift Omaha’s Transit Team on Zoom to discuss opportunities to push for better transit and help more people learn about and use Omaha’s transit system. In the past we have pushed for passage of the Regional Transit Authority legislation (passed in 2019)\, organized Ride the Bus with Us events to create fun bus riding opportunities\, and shared information about elements of good bus rapid transit.
URL:https://modeshiftomaha.org/event/transit-team-meeting-2/
CATEGORIES:Team Meeting
ATTACH;FMTTYPE=image/jpeg:https://modeshiftomaha.org/wp-content/uploads/2022/04/ElectricBus.jpg
END:VEVENT
END:VCALENDAR