BEGIN:VCALENDAR
VERSION:2.0
PRODID:-//Mode Shift Omaha - ECPv6.15.17.1//NONSGML v1.0//EN
CALSCALE:GREGORIAN
METHOD:PUBLISH
X-WR-CALNAME:Mode Shift Omaha
X-ORIGINAL-URL:https://modeshiftomaha.org
X-WR-CALDESC:Events for Mode Shift Omaha
REFRESH-INTERVAL;VALUE=DURATION:PT1H
X-Robots-Tag:noindex
X-PUBLISHED-TTL:PT1H
BEGIN:VTIMEZONE
TZID:America/Chicago
BEGIN:DAYLIGHT
TZOFFSETFROM:-0600
TZOFFSETTO:-0500
TZNAME:CDT
DTSTART:20220313T080000
END:DAYLIGHT
BEGIN:STANDARD
TZOFFSETFROM:-0500
TZOFFSETTO:-0600
TZNAME:CST
DTSTART:20221106T070000
END:STANDARD
BEGIN:DAYLIGHT
TZOFFSETFROM:-0600
TZOFFSETTO:-0500
TZNAME:CDT
DTSTART:20230312T080000
END:DAYLIGHT
BEGIN:STANDARD
TZOFFSETFROM:-0500
TZOFFSETTO:-0600
TZNAME:CST
DTSTART:20231105T070000
END:STANDARD
BEGIN:DAYLIGHT
TZOFFSETFROM:-0600
TZOFFSETTO:-0500
TZNAME:CDT
DTSTART:20240310T080000
END:DAYLIGHT
BEGIN:STANDARD
TZOFFSETFROM:-0500
TZOFFSETTO:-0600
TZNAME:CST
DTSTART:20241103T070000
END:STANDARD
END:VTIMEZONE
BEGIN:VEVENT
DTSTART;TZID=America/Chicago:20231004T190000
DTEND;TZID=America/Chicago:20231004T200000
DTSTAMP:20260419T110205
CREATED:20230920T032756Z
LAST-MODIFIED:20230920T033135Z
UID:6225-1696446000-1696449600@modeshiftomaha.org
SUMMARY:10/4: Bike Team Meeting
DESCRIPTION:Join us for our October Bike Team meeting in person at Dry Spokes. Focus will be on organizing a Cranksgiving event on November 4th to get folks out on bikes and get food donations for the local charities.
URL:https://modeshiftomaha.org/event/10-4-bike-team-meeting/
LOCATION:Dry Spokes\, 1901 Leavenworth St.\, Omaha\, Nebraska\, United States
CATEGORIES:Team Meeting
ATTACH;FMTTYPE=image/jpeg:https://modeshiftomaha.org/wp-content/uploads/2023/09/IMG_1628.jpg
END:VEVENT
BEGIN:VEVENT
DTSTART;TZID=America/Chicago:20231011T190000
DTEND;TZID=America/Chicago:20231011T200000
DTSTAMP:20260419T110205
CREATED:20230923T173252Z
LAST-MODIFIED:20230923T174130Z
UID:6236-1697050800-1697054400@modeshiftomaha.org
SUMMARY:10/11 Walkability Team Meeting
DESCRIPTION:Join the Mode Shift Walkability Team at their October meeting via Zoom to get involved in improving pedestrian infrastructure in Omaha. We will be planning for a November 1 Walk with Us event near the North Omaha Transit Center\, ongoing conversations with the City\, and more. All are welcome to join and connect with the Walkability Team.
URL:https://modeshiftomaha.org/event/10-11-walkability-team-meeting/
CATEGORIES:Team Meeting
ATTACH;FMTTYPE=image/jpeg:https://modeshiftomaha.org/wp-content/uploads/2022/08/Joslyn-Castle-neighborhood-walk-with-us.jpeg
END:VEVENT
BEGIN:VEVENT
DTSTART;TZID=America/Chicago:20231014T100000
DTEND;TZID=America/Chicago:20231014T110000
DTSTAMP:20260419T110205
CREATED:20230923T221641Z
LAST-MODIFIED:20230923T221644Z
UID:6239-1697277600-1697281200@modeshiftomaha.org
SUMMARY:10/14: Coffee Meet Up
DESCRIPTION:Join the Bike Team at Hardy Coffee in Benson to discuss biking and transportation in Omaha. Open to anyone.
URL:https://modeshiftomaha.org/event/10-14-coffee-meet-up/
LOCATION:Hardy Coffee in Benson\, 6051 Maple St.\, Omaha\, Nebraska\, 68104\, United States
CATEGORIES:Team Meeting
ATTACH;FMTTYPE=image/jpeg:https://modeshiftomaha.org/wp-content/uploads/2013/01/image1.jpg
END:VEVENT
END:VCALENDAR