BEGIN:VCALENDAR
VERSION:2.0
PRODID:-//Mode Shift Omaha - ECPv6.15.17.1//NONSGML v1.0//EN
CALSCALE:GREGORIAN
METHOD:PUBLISH
X-WR-CALNAME:Mode Shift Omaha
X-ORIGINAL-URL:https://modeshiftomaha.org
X-WR-CALDESC:Events for Mode Shift Omaha
REFRESH-INTERVAL;VALUE=DURATION:PT1H
X-Robots-Tag:noindex
X-PUBLISHED-TTL:PT1H
BEGIN:VTIMEZONE
TZID:America/Chicago
BEGIN:DAYLIGHT
TZOFFSETFROM:-0600
TZOFFSETTO:-0500
TZNAME:CDT
DTSTART:20220313T080000
END:DAYLIGHT
BEGIN:STANDARD
TZOFFSETFROM:-0500
TZOFFSETTO:-0600
TZNAME:CST
DTSTART:20221106T070000
END:STANDARD
BEGIN:DAYLIGHT
TZOFFSETFROM:-0600
TZOFFSETTO:-0500
TZNAME:CDT
DTSTART:20230312T080000
END:DAYLIGHT
BEGIN:STANDARD
TZOFFSETFROM:-0500
TZOFFSETTO:-0600
TZNAME:CST
DTSTART:20231105T070000
END:STANDARD
BEGIN:DAYLIGHT
TZOFFSETFROM:-0600
TZOFFSETTO:-0500
TZNAME:CDT
DTSTART:20240310T080000
END:DAYLIGHT
BEGIN:STANDARD
TZOFFSETFROM:-0500
TZOFFSETTO:-0600
TZNAME:CST
DTSTART:20241103T070000
END:STANDARD
END:VTIMEZONE
BEGIN:VEVENT
DTSTART;TZID=America/Chicago:20231101T190000
DTEND;TZID=America/Chicago:20231101T200000
DTSTAMP:20260419T093710
CREATED:20231101T154534Z
LAST-MODIFIED:20231101T154537Z
UID:6264-1698865200-1698868800@modeshiftomaha.org
SUMMARY:Bike Team Meeting
DESCRIPTION:Join us for our November Bike Team meeting in person at Dry Spokes. Focus will be on organizing a Cranksgiving event on Saturday November 4th to get folks out on bikes and get food donations for the local charities.
URL:https://modeshiftomaha.org/event/bike-team-meeting-5/
LOCATION:Dry Spokes\, 1901 Leavenworth St.\, Omaha\, Nebraska\, United States
CATEGORIES:Team Meeting
ATTACH;FMTTYPE=image/jpeg:https://modeshiftomaha.org/wp-content/uploads/2022/10/Bike-lane-protest-group-of-cyclists.jpeg
END:VEVENT
BEGIN:VEVENT
DTSTART;TZID=America/Chicago:20231102T173000
DTEND;TZID=America/Chicago:20231102T183000
DTSTAMP:20260419T093710
CREATED:20231013T183635Z
LAST-MODIFIED:20231013T203447Z
UID:6247-1698946200-1698949800@modeshiftomaha.org
SUMMARY:11/2 Walk with Us at North Omaha Transit Center
DESCRIPTION:Join us at North Omaha Transit Center for an autumn Walk with Us event. We’ll be looking critically at the safety and connectivity along Ames\, with a particular focus on pedestrian routes to and from North High School and the North Omaha Trail. We should have daylight on our side for the hourlong walk\, but please dress for the weather! Signs will be available.  \n\n\n\n \n\n\n\nWhy here and now? Here are a couple of reasons: \n\n\n\n \n\n\n\n\nThis segment of Ames is in the Priority High Injury Network (HIN) identified by Omaha’s Vision Zero plan. Within the Priority HIN\, crashes involving fatal and severe injuries are over 9x more likely to occur.\n\n\n\nThere are multiple schools within walking distance of NOTC. Students have always been power users of transit\, and this is especially true since Metro Transit introduced its K12 Rides Free program.  But do kids have safe walking routes to and from transit?
URL:https://modeshiftomaha.org/event/walk-with-us-at-north-omaha-transit-center/
LOCATION:North Omaha Transit Center\, 4308 N 31st Ave\, Omaha\, Nebraska\, 68111\, United States
CATEGORIES:Community event
ATTACH;FMTTYPE=image/jpeg:https://modeshiftomaha.org/wp-content/uploads/2022/08/IMG_1901-scaled.jpeg
END:VEVENT
BEGIN:VEVENT
DTSTART;TZID=America/Chicago:20231104T100000
DTEND;TZID=America/Chicago:20231104T120000
DTSTAMP:20260419T093710
CREATED:20231101T155502Z
LAST-MODIFIED:20231101T163048Z
UID:6266-1699092000-1699099200@modeshiftomaha.org
SUMMARY:11/4: Cranksgiving
DESCRIPTION:Join Mode Shift Omaha’s Bike Team on Saturday November 4th for Cranksgiving. Cranksgiving is “is a food drive on two wheels. Part bike ride\, part food drive\, and part scavenger hunt\,” and rides are happening across the country. We’re meeting at Dry Spokes\, 1901 Leavenworth St at 10:00 AM. Then\, we’ll ride to local food stores and return by 12:00 PM. Finally\, we’ll ride to Together Inc. to deliver the donations! \n\n\n\nDon’t be a turkey\, be there!!
URL:https://modeshiftomaha.org/event/cranksgiving/
LOCATION:Dry Spokes\, 1901 Leavenworth St.\, Omaha\, Nebraska\, United States
CATEGORIES:Community event
ATTACH;FMTTYPE=image/jpeg:https://modeshiftomaha.org/wp-content/uploads/2023/09/IMG_1628.jpg
END:VEVENT
BEGIN:VEVENT
DTSTART;TZID=America/Chicago:20231108T190000
DTEND;TZID=America/Chicago:20231108T200000
DTSTAMP:20260419T093710
CREATED:20231101T155850Z
LAST-MODIFIED:20231101T163028Z
UID:6269-1699470000-1699473600@modeshiftomaha.org
SUMMARY:11/8: Walkability Team Meeting
DESCRIPTION:Join the Mode Shift Walkability Team at their November meeting via Zoom to get involved in improving pedestrian infrastructure in Omaha. We will be debriefing the November 1 Walk with Us event that is happening near the North Omaha Transit Center\, ongoing conversations with the City\, and more. All are welcome to join and connect with the Walkability Team.
URL:https://modeshiftomaha.org/event/walkability-team-meeting-5/
CATEGORIES:Team Meeting
ATTACH;FMTTYPE=image/jpeg:https://modeshiftomaha.org/wp-content/uploads/2023/08/IMG_1223.jpg
END:VEVENT
BEGIN:VEVENT
DTSTART;TZID=America/Chicago:20231111T100000
DTEND;TZID=America/Chicago:20231111T110000
DTSTAMP:20260419T093710
CREATED:20231107T043939Z
LAST-MODIFIED:20231107T043941Z
UID:6281-1699696800-1699700400@modeshiftomaha.org
SUMMARY:11/11: Coffee Meet up
DESCRIPTION:Join the Bike Team on Saturday November 11 at 10am at Cafe Ohana pop up with Hawaiian coffee and snacks at Dry Spokes on Leavenworth.  Discuss biking and transportation in Omaha. Open to anyone.
URL:https://modeshiftomaha.org/event/11-11-coffee-meet-up/
LOCATION:Dry Spokes\, 1901 Leavenworth St.\, Omaha\, Nebraska\, United States
CATEGORIES:Community event
ATTACH;FMTTYPE=image/jpeg:https://modeshiftomaha.org/wp-content/uploads/2023/09/245604616_4504325629662187_7992064577801103806_n.jpg
END:VEVENT
BEGIN:VEVENT
DTSTART;TZID=America/Chicago:20231114T140000
DTEND;TZID=America/Chicago:20231114T170000
DTSTAMP:20260419T093710
CREATED:20231101T163004Z
LAST-MODIFIED:20231113T031958Z
UID:6271-1699970400-1699981200@modeshiftomaha.org
SUMMARY:11/14: Vision Zero Plan Vote at City Council
DESCRIPTION:The Omaha City Council will vote on a resolution to adopt the Vision Zero Plan in the City Council meeting on Tuesday November 14. From the public events and information shared by Vision Zero Omaha\, it seems like the plan will be good. You should be able to access the City Council meeting agenda and related materials here\, once these are posted.   \n\n\n\nVision Zero Omaha logo with pedestrian\, bike\, and car icons.\n\n\n\nIt would be great to have folks speak in support of the plan at City Council (and highlight any gaps/opportunities for improvement). There are multiple options for voicing your support: \n\n\n\n\nYou can just show up in person and speak on an agenda item\n\n\n\nYou can speak virtually via Zoom (see instructions below)\n\n\n\nYou could submit written testimony in support to the City Clerk at: cityclerk@cityofomaha.org (also feel free to include your Councilmember and/or other Councilmembers)\n\n\n\n\nSpeaking virtually at City Council \n\n\n\nTo speak on an agenda item through Zoom\, email the City Clerk at cityclerk@cityofomaha.org with the following information: Name Address Item(s) you wish to speak on Proponent or opponent Registrations must be completed by 4:30 PM on the Monday prior to the meeting date (unless otherwise noted on the agenda). *A registration is complete once you have submitted the Zoom meeting invite and receive a “Omaha City Council Meeting Confirmation” email. There is no guarantee of your participation via Zoom in the meeting if all of the above information is not finalized by the deadline. \n\n\n\nClick here to find instructions and guidelines for Zoom participation at City Council meetings.  
URL:https://modeshiftomaha.org/event/11-14-vision-zero-plan-vote-at-city-council/
CATEGORIES:Community event
ATTACH;FMTTYPE=image/jpeg:https://modeshiftomaha.org/wp-content/uploads/2023/11/IMG_1381.jpg
END:VEVENT
BEGIN:VEVENT
DTSTART;TZID=America/Chicago:20231128T180000
DTEND;TZID=America/Chicago:20231128T200000
DTSTAMP:20260419T093710
CREATED:20231124T162845Z
LAST-MODIFIED:20231124T162847Z
UID:6311-1701194400-1701201600@modeshiftomaha.org
SUMMARY:11/28: Giving Tuesday Party
DESCRIPTION:Join us for our Giving Tuesday party Tuesday November 28 at Ponderosa Cyclery! Like days of old we’ll hang out and text and email folks reminding them to donate to Mode Shift at a bike shop with pizza. Going to be tons of fun 
URL:https://modeshiftomaha.org/event/11-28-giving-tuesday-party/
LOCATION:Ponderosa Cyclery\, 3901 Leavenworth St.\, Omaha\, Nebraska\, 68105\, United States
CATEGORIES:Member Meeting
ATTACH;FMTTYPE=image/jpeg:https://modeshiftomaha.org/wp-content/uploads/2023/11/403617137_806484274839379_2436953451635311697_n.jpg
END:VEVENT
END:VCALENDAR